BEGIN:VCALENDAR
VERSION:2.0
PRODID:-//Wheels of Hope Car Show - Garland, Texas - ECPv6.15.20//NONSGML v1.0//EN
CALSCALE:GREGORIAN
METHOD:PUBLISH
X-ORIGINAL-URL:https://wheelsofhopegarland.com
X-WR-CALDESC:Events for Wheels of Hope Car Show - Garland, Texas
REFRESH-INTERVAL;VALUE=DURATION:PT1H
X-Robots-Tag:noindex
X-PUBLISHED-TTL:PT1H
BEGIN:VTIMEZONE
TZID:UTC
BEGIN:STANDARD
TZOFFSETFROM:+0000
TZOFFSETTO:+0000
TZNAME:UTC
DTSTART:20160101T000000
END:STANDARD
END:VTIMEZONE
BEGIN:VEVENT
DTSTART;TZID=UTC:20170429T100000
DTEND;TZID=UTC:20170429T140000
DTSTAMP:20260423T181425
CREATED:20170217T040156Z
LAST-MODIFIED:20170320T054645Z
UID:2551-1493460000-1493474400@wheelsofhopegarland.com
SUMMARY:Wheels of Hope Car Show 2017
DESCRIPTION:Car Registration is from 8am to 10am. \nCar Show is from 10am to 2pm. \nAwards will be given out at 2pm.
URL:https://wheelsofhopegarland.com/events/wheels-of-hope-car-show-2017/
LOCATION:Plaza Theatre\, 521 West State Street\, Garland\, TX 75040\, Garland
CATEGORIES:2017 Car Show
ATTACH;FMTTYPE=image/jpeg:https://wheelsofhopegarland.com/wp-content/uploads/2017/02/SaveTheDate2017.jpg
END:VEVENT
END:VCALENDAR