BEGIN:VCALENDAR
VERSION:2.0
PRODID:-//Wheels of Hope Car Show - Garland, Texas - ECPv6.15.20//NONSGML v1.0//EN
CALSCALE:GREGORIAN
METHOD:PUBLISH
X-ORIGINAL-URL:https://wheelsofhopegarland.com
X-WR-CALDESC:Events for Wheels of Hope Car Show - Garland, Texas
REFRESH-INTERVAL;VALUE=DURATION:PT1H
X-Robots-Tag:noindex
X-PUBLISHED-TTL:PT1H
BEGIN:VTIMEZONE
TZID:UTC
BEGIN:STANDARD
TZOFFSETFROM:+0000
TZOFFSETTO:+0000
TZNAME:UTC
DTSTART:20170101T000000
END:STANDARD
END:VTIMEZONE
BEGIN:VEVENT
DTSTART;TZID=UTC:20180428T080000
DTEND;TZID=UTC:20180428T140000
DTSTAMP:20260423T165752
CREATED:20180112T031009Z
LAST-MODIFIED:20180115T191636Z
UID:2699-1524902400-1524924000@wheelsofhopegarland.com
SUMMARY:Wheels of Hope Car Show 2018
DESCRIPTION:Car Registration is from 8am to 10am. \nCar Show is from 10am to 2pm. \nAwards will be given out at 2pm. \nRegister Your Car Now!
URL:https://wheelsofhopegarland.com/events/wheels-of-hope-car-show-2018/
LOCATION:Plaza Theatre\, 521 West State Street\, Garland\, TX 75040\, Garland
CATEGORIES:2018 Car Show
ATTACH;FMTTYPE=image/jpeg:https://wheelsofhopegarland.com/wp-content/uploads/2018/01/Jan-14-2018-Slider-Main-Medium.jpg
END:VEVENT
END:VCALENDAR