BEGIN:VCALENDAR
VERSION:2.0
PRODID:-//Wheels of Hope Car Show - Garland, Texas - ECPv6.15.20//NONSGML v1.0//EN
CALSCALE:GREGORIAN
METHOD:PUBLISH
X-WR-CALNAME:Wheels of Hope Car Show - Garland, Texas
X-ORIGINAL-URL:https://wheelsofhopegarland.com
X-WR-CALDESC:Events for Wheels of Hope Car Show - Garland, Texas
REFRESH-INTERVAL;VALUE=DURATION:PT1H
X-Robots-Tag:noindex
X-PUBLISHED-TTL:PT1H
BEGIN:VTIMEZONE
TZID:UTC
BEGIN:STANDARD
TZOFFSETFROM:+0000
TZOFFSETTO:+0000
TZNAME:UTC
DTSTART:20210101T000000
END:STANDARD
END:VTIMEZONE
BEGIN:VTIMEZONE
TZID:America/Chicago
BEGIN:DAYLIGHT
TZOFFSETFROM:-0600
TZOFFSETTO:-0500
TZNAME:CDT
DTSTART:20210314T080000
END:DAYLIGHT
BEGIN:STANDARD
TZOFFSETFROM:-0500
TZOFFSETTO:-0600
TZNAME:CST
DTSTART:20211107T070000
END:STANDARD
BEGIN:DAYLIGHT
TZOFFSETFROM:-0600
TZOFFSETTO:-0500
TZNAME:CDT
DTSTART:20220313T080000
END:DAYLIGHT
BEGIN:STANDARD
TZOFFSETFROM:-0500
TZOFFSETTO:-0600
TZNAME:CST
DTSTART:20221106T070000
END:STANDARD
BEGIN:DAYLIGHT
TZOFFSETFROM:-0600
TZOFFSETTO:-0500
TZNAME:CDT
DTSTART:20230312T080000
END:DAYLIGHT
BEGIN:STANDARD
TZOFFSETFROM:-0500
TZOFFSETTO:-0600
TZNAME:CST
DTSTART:20231105T070000
END:STANDARD
END:VTIMEZONE
BEGIN:VEVENT
DTSTART;TZID=UTC:20221015T123000
DTEND;TZID=UTC:20221015T140000
DTSTAMP:20260423T151918
CREATED:20220803T022929Z
LAST-MODIFIED:20220807T224914Z
UID:5167-1665837000-1665842400@wheelsofhopegarland.com
SUMMARY:The Chaz Marie Band
DESCRIPTION:The Chaz Marie Band will be performing this year at the Wheels of Hope Classic Car Show.
URL:https://wheelsofhopegarland.com/events/the-chaz-marie-band/
CATEGORIES:2022 Car Show
ATTACH;FMTTYPE=image/jpeg:https://wheelsofhopegarland.com/wp-content/uploads/2022/06/Chaz-Marie-2.jpg
END:VEVENT
BEGIN:VEVENT
DTSTART;TZID=America/Chicago:20221015T080000
DTEND;TZID=America/Chicago:20221015T143000
DTSTAMP:20260423T151918
CREATED:20220928T214734Z
LAST-MODIFIED:20221005T212500Z
UID:6363-1665820800-1665844200@wheelsofhopegarland.com
SUMMARY:Wheels of Hope Car Show Layout Map
DESCRIPTION:
URL:https://wheelsofhopegarland.com/events/wheels-of-hope-car-show-layout-map/
CATEGORIES:2022 Car Show
ATTACH;FMTTYPE=image/jpeg:https://wheelsofhopegarland.com/wp-content/uploads/2022/10/Car-Show-Map-Layout.jpg
END:VEVENT
BEGIN:VEVENT
DTSTART;TZID=UTC:20221015T080000
DTEND;TZID=UTC:20221015T143000
DTSTAMP:20260423T151918
CREATED:20220606T192906Z
LAST-MODIFIED:20220803T021013Z
UID:5130-1665820800-1665844200@wheelsofhopegarland.com
SUMMARY:Wheels of Hope Car Show 2022
DESCRIPTION:Wheels of Hope Classic Car Show – Saturday\, October 15\, 2022\nVeritex Bank – 1001 Main Street\nNew Location for 2022 while the Downtown Square is being renovated. \nOnline Registration will open August 1st \n8:00 AM               Car Registration Begins \n10:00 AM            Wheels of Hope Classic Car Show Opens!  \n10:00 AM            Event Performances Begin \n2:00 PM-3 PM   Car Show Winners Announced/ Trophies\, and Pictures begin \n  \nThe Chaz Marie Band will be performing at this year’s Wheels of Hope Classic Car Show. \n     \n 
URL:https://wheelsofhopegarland.com/events/wheels-of-hope-car-show-2022/
CATEGORIES:2022 Car Show
ATTACH;FMTTYPE=image/jpeg:https://wheelsofhopegarland.com/wp-content/uploads/2022/06/Home-Page-Header-Graphic-7th-Annual-WOH.jpg
END:VEVENT
END:VCALENDAR