BEGIN:VCALENDAR
VERSION:2.0
PRODID:-//Wheels of Hope Car Show - Garland, Texas - ECPv6.15.20//NONSGML v1.0//EN
CALSCALE:GREGORIAN
METHOD:PUBLISH
X-ORIGINAL-URL:https://wheelsofhopegarland.com
X-WR-CALDESC:Events for Wheels of Hope Car Show - Garland, Texas
REFRESH-INTERVAL;VALUE=DURATION:PT1H
X-Robots-Tag:noindex
X-PUBLISHED-TTL:PT1H
BEGIN:VTIMEZONE
TZID:America/Chicago
BEGIN:DAYLIGHT
TZOFFSETFROM:-0600
TZOFFSETTO:-0500
TZNAME:CDT
DTSTART:20210314T080000
END:DAYLIGHT
BEGIN:STANDARD
TZOFFSETFROM:-0500
TZOFFSETTO:-0600
TZNAME:CST
DTSTART:20211107T070000
END:STANDARD
BEGIN:DAYLIGHT
TZOFFSETFROM:-0600
TZOFFSETTO:-0500
TZNAME:CDT
DTSTART:20220313T080000
END:DAYLIGHT
BEGIN:STANDARD
TZOFFSETFROM:-0500
TZOFFSETTO:-0600
TZNAME:CST
DTSTART:20221106T070000
END:STANDARD
BEGIN:DAYLIGHT
TZOFFSETFROM:-0600
TZOFFSETTO:-0500
TZNAME:CDT
DTSTART:20230312T080000
END:DAYLIGHT
BEGIN:STANDARD
TZOFFSETFROM:-0500
TZOFFSETTO:-0600
TZNAME:CST
DTSTART:20231105T070000
END:STANDARD
BEGIN:DAYLIGHT
TZOFFSETFROM:-0600
TZOFFSETTO:-0500
TZNAME:CDT
DTSTART:20240310T080000
END:DAYLIGHT
BEGIN:STANDARD
TZOFFSETFROM:-0500
TZOFFSETTO:-0600
TZNAME:CST
DTSTART:20241103T070000
END:STANDARD
BEGIN:DAYLIGHT
TZOFFSETFROM:-0600
TZOFFSETTO:-0500
TZNAME:CDT
DTSTART:20250309T080000
END:DAYLIGHT
BEGIN:STANDARD
TZOFFSETFROM:-0500
TZOFFSETTO:-0600
TZNAME:CST
DTSTART:20251102T070000
END:STANDARD
END:VTIMEZONE
BEGIN:VTIMEZONE
TZID:UTC
BEGIN:STANDARD
TZOFFSETFROM:+0000
TZOFFSETTO:+0000
TZNAME:UTC
DTSTART:20140101T000000
END:STANDARD
END:VTIMEZONE
BEGIN:VEVENT
DTSTART;TZID=America/Chicago:20241012T080000
DTEND;TZID=America/Chicago:20241012T150000
DTSTAMP:20260423T114622
CREATED:20241008T133349Z
LAST-MODIFIED:20241008T135033Z
UID:9386-1728720000-1728745200@wheelsofhopegarland.com
SUMMARY:2024 Wheels of Hope Car Show
DESCRIPTION:Make plans to join us for the 9th annual Wheels of Hope Classic Car Show in the downtown Garland square. Registration opens at 8:00 AM. Cost per car – $30.00. Preregistration is available online now. Lots of fun activities planned for the event.\n8:00 – Car Show Registration opens at the Plaza – Downtown Garland\n9:00 – Judging Begins\n9:30 – T-Shirt and Raffle Sales begin\n9:55 – Wheels of Hope begins with Drumline led by Jackson Technology down Main Street\n10:05 – Star Spangled Banner sung by Enrique Castilleja– Rowlett High (Rico Hamilton)\n10:10 – Mariachi Cielo Azul (Rebecca De Luna)\n10:20 – Hudson Jazz Band (Heather Becker)\n10:30 – North Garland High School – World Dance (Sally Portillo)\n10:35 – Lakeview Centennial Show Choir “Freedom”\n10:45 – Austin Academy Jazz Band (Shane Shisato)\n10:50 – Raffle Drawing # 1 & 2\n11:20 – Raffle Drawing # 3 & 4\n12:30 – Robert Miller Band\n1:45 – Raffle Drawing # 5 & 6\n1:00 – Raffle Drawing # 6\n2:00 – 50/50 Drawing\n2:15 – Car Show Winners Announced with Trophies\n3:00 – Car Show Conclusion 😊 \n\nRob Miller will be performing on stage from 12:30pm to 1:45pm
URL:https://wheelsofhopegarland.com/events/2024-wheels-of-hope-car-show/
CATEGORIES:2024 Car Show
ATTACH;FMTTYPE=image/jpeg:https://wheelsofhopegarland.com/wp-content/uploads/2024/07/2024-Secondary-Page-Header.jpg
END:VEVENT
BEGIN:VEVENT
DTSTART;TZID=America/Chicago:20231020T190000
DTEND;TZID=America/Chicago:20231021T150000
DTSTAMP:20260423T114622
CREATED:20230913T195907Z
LAST-MODIFIED:20230913T200352Z
UID:7608-1697828400-1697900400@wheelsofhopegarland.com
SUMMARY:2023 Wheels of Hope Car Show
DESCRIPTION:
URL:https://wheelsofhopegarland.com/events/2023-wheels-of-hope-car-show/
CATEGORIES:2023 Car Show
ATTACH;FMTTYPE=image/jpeg:https://wheelsofhopegarland.com/wp-content/uploads/2023/09/2023-Wheels-Of-Hope-Poster-New-11x17-smaller-scaled.jpg
END:VEVENT
BEGIN:VEVENT
DTSTART;TZID=UTC:20221015T123000
DTEND;TZID=UTC:20221015T140000
DTSTAMP:20260423T114622
CREATED:20220803T022929Z
LAST-MODIFIED:20220807T224914Z
UID:5167-1665837000-1665842400@wheelsofhopegarland.com
SUMMARY:The Chaz Marie Band
DESCRIPTION:The Chaz Marie Band will be performing this year at the Wheels of Hope Classic Car Show.
URL:https://wheelsofhopegarland.com/events/the-chaz-marie-band/
CATEGORIES:2022 Car Show
ATTACH;FMTTYPE=image/jpeg:https://wheelsofhopegarland.com/wp-content/uploads/2022/06/Chaz-Marie-2.jpg
END:VEVENT
BEGIN:VEVENT
DTSTART;TZID=America/Chicago:20221015T080000
DTEND;TZID=America/Chicago:20221015T143000
DTSTAMP:20260423T114622
CREATED:20220928T214734Z
LAST-MODIFIED:20221005T212500Z
UID:6363-1665820800-1665844200@wheelsofhopegarland.com
SUMMARY:Wheels of Hope Car Show Layout Map
DESCRIPTION:
URL:https://wheelsofhopegarland.com/events/wheels-of-hope-car-show-layout-map/
CATEGORIES:2022 Car Show
ATTACH;FMTTYPE=image/jpeg:https://wheelsofhopegarland.com/wp-content/uploads/2022/10/Car-Show-Map-Layout.jpg
END:VEVENT
BEGIN:VEVENT
DTSTART;TZID=UTC:20221015T080000
DTEND;TZID=UTC:20221015T143000
DTSTAMP:20260423T114622
CREATED:20220606T192906Z
LAST-MODIFIED:20220803T021013Z
UID:5130-1665820800-1665844200@wheelsofhopegarland.com
SUMMARY:Wheels of Hope Car Show 2022
DESCRIPTION:Wheels of Hope Classic Car Show – Saturday\, October 15\, 2022\nVeritex Bank – 1001 Main Street\nNew Location for 2022 while the Downtown Square is being renovated. \nOnline Registration will open August 1st \n8:00 AM               Car Registration Begins \n10:00 AM            Wheels of Hope Classic Car Show Opens!  \n10:00 AM            Event Performances Begin \n2:00 PM-3 PM   Car Show Winners Announced/ Trophies\, and Pictures begin \n  \nThe Chaz Marie Band will be performing at this year’s Wheels of Hope Classic Car Show. \n     \n 
URL:https://wheelsofhopegarland.com/events/wheels-of-hope-car-show-2022/
CATEGORIES:2022 Car Show
ATTACH;FMTTYPE=image/jpeg:https://wheelsofhopegarland.com/wp-content/uploads/2022/06/Home-Page-Header-Graphic-7th-Annual-WOH.jpg
END:VEVENT
BEGIN:VEVENT
DTSTART;TZID=UTC:20211002T100000
DTEND;TZID=UTC:20211002T153000
DTSTAMP:20260423T114622
CREATED:20200201T230718Z
LAST-MODIFIED:20210428T013327Z
UID:3236-1633168800-1633188600@wheelsofhopegarland.com
SUMMARY:Wheels of Hope Car Show 2021
DESCRIPTION:Wheels of Hope Classic Car Show 6 – Saturday\, October 2\, 2021\n(Rainout Date is October 10th) \n8:00 AM               Car Registration Begins at the Plaza Theater  \n9:45 AM               Drum Line – Marches down Main Street to the Square  \n10:00 AM            Wheels of Hope Classic Car Show Opens!  \n10:10 AM            Student Performances  \n11:00 AM            April N. Smith  – Performs  \n12:45 PM            Stratoblasters on Stage  \n2:00 PM               50/50 Drawing  \n2:15 PM               Car Show Winners Announced/ Trophies\, and Pictures begin  \n3:15 – 3:30 PM   Car Show Conclusion \n  \nAPRIL N. SMITH\nSinger songwriter April N. Smith is an American country recording artist born in 1980 in Longview\, Texas. Her soothing voice has been compared to Patsy Cline and Martina McBride. \nFrom an early age Smith was passionate about music and could often be found singing with her mother and sister at home or in the car. There were always impromptu performances around the Smith household. \nSmith’s first performance at age 6 was singing gospel music at their small-town church. Something came alive in her when she sang\, and her family knew she was gifted with the talent of voice. Her grandparents got her an audition at the Gladewater Opry House when she was 12 and she began singing there every second weekend of the month as well as at local gatherings and churches throughout her teenage years. \nSmith was married at a young age and children soon followed. After taking time off from music to raise her three daughters\, Smith decided it was time to follow her dream of writing and singing country music. She had so many stories to tell and began putting them on paper to create songs everyone can relate to. Her down-home lyrics tear at the heart strings and will also give you strength and confidence to face life’s many challenges. \nIn 2020\, Smith signed with Blue Heart records and in April 2020 released the lead single Enough digitally for international streaming. On May 26\, 2020\, Smith released 4 Shots which was her first single played on Texas radio. The single One Two Step Away was released January 22\, 2021 and went to #7 on the Texas Radio Charts. Smith’s highly anticipated debut album Enough was released February 20\, 2021 and her release of Staying Goodbye will be on June 3\, 2021. \nTHE STRATOBLASTERS\nJimmy Wallace & the Stratoblasters: Guitarists Jimmy Wallace\, Jerry Don Branch\, Matt Tapp and Michael Jr Clark\, along with Mike Holmes on Bass &  Mike Gage on drums. \nTHE IDEA … a four guitar army with amazing vocals that antes up the explosive energy necessary to blast out vintage R&B\, soul and any other genre of interest.  The Ultimate Guitar Army!!
URL:https://wheelsofhopegarland.com/events/wheels-of-hope-car-show-2021/
LOCATION:Plaza Theater\, 521 W State St\, Garland\, TX\, 75040\, United States
CATEGORIES:2021 Car Show
ATTACH;FMTTYPE=image/jpeg:https://wheelsofhopegarland.com/wp-content/uploads/2020/02/WOH-Header-6th-Annual-2020.jpg
END:VEVENT
BEGIN:VEVENT
DTSTART;TZID=UTC:20190427T100000
DTEND;TZID=UTC:20190427T150000
DTSTAMP:20260423T114622
CREATED:20190117T231052Z
LAST-MODIFIED:20190214T205427Z
UID:2834-1556359200-1556377200@wheelsofhopegarland.com
SUMMARY:Wheels of Hope Car Show 2019
DESCRIPTION:Car Registration is from 8am to 10am at the Plaza Theater. \nCar Show is from 10am to 2pm. \nAwards will begin at 2pm. \nRegister Your Car Now! \n\n                                     StratoBlasters
URL:https://wheelsofhopegarland.com/events/wheels-of-hope-car-show-2019/
LOCATION:Plaza Theatre\, 521 West State Street\, Garland\, TX 75040\, Garland
CATEGORIES:2019 Car Show
ATTACH;FMTTYPE=image/jpeg:https://wheelsofhopegarland.com/wp-content/uploads/2019/01/WOH-2019-Info.jpg
END:VEVENT
BEGIN:VEVENT
DTSTART;TZID=UTC:20180428T080000
DTEND;TZID=UTC:20180428T140000
DTSTAMP:20260423T114622
CREATED:20180112T031009Z
LAST-MODIFIED:20180115T191636Z
UID:2699-1524902400-1524924000@wheelsofhopegarland.com
SUMMARY:Wheels of Hope Car Show 2018
DESCRIPTION:Car Registration is from 8am to 10am. \nCar Show is from 10am to 2pm. \nAwards will be given out at 2pm. \nRegister Your Car Now!
URL:https://wheelsofhopegarland.com/events/wheels-of-hope-car-show-2018/
LOCATION:Plaza Theatre\, 521 West State Street\, Garland\, TX 75040\, Garland
CATEGORIES:2018 Car Show
ATTACH;FMTTYPE=image/jpeg:https://wheelsofhopegarland.com/wp-content/uploads/2018/01/Jan-14-2018-Slider-Main-Medium.jpg
END:VEVENT
BEGIN:VEVENT
DTSTART;TZID=UTC:20170429T100000
DTEND;TZID=UTC:20170429T140000
DTSTAMP:20260423T114622
CREATED:20170217T040156Z
LAST-MODIFIED:20170320T054645Z
UID:2551-1493460000-1493474400@wheelsofhopegarland.com
SUMMARY:Wheels of Hope Car Show 2017
DESCRIPTION:Car Registration is from 8am to 10am. \nCar Show is from 10am to 2pm. \nAwards will be given out at 2pm.
URL:https://wheelsofhopegarland.com/events/wheels-of-hope-car-show-2017/
LOCATION:Plaza Theatre\, 521 West State Street\, Garland\, TX 75040\, Garland
CATEGORIES:2017 Car Show
ATTACH;FMTTYPE=image/jpeg:https://wheelsofhopegarland.com/wp-content/uploads/2017/02/SaveTheDate2017.jpg
END:VEVENT
BEGIN:VEVENT
DTSTART;TZID=UTC:20160423T100000
DTEND;TZID=UTC:20160423T143000
DTSTAMP:20260423T114622
CREATED:20141211T221137Z
LAST-MODIFIED:20160324T220416Z
UID:1879-1461405600-1461421800@wheelsofhopegarland.com
SUMMARY:Wheels of Hope Car Show 2016
DESCRIPTION:The Wheels of Hope Car Show is a unique annual event in Garland\, Texas showcasing great cars for a great cause. All proceeds go to benefit the work of the Hope Clinic in Garland\, a non-profit clinic providing health care to low income residents who do not have private health insurance and are not eligible for Medicare\, Medicaid\, Parkland Plus\, or similar programs. \nSaturday\, April 23\, 2016 Wheels of Hope Event Schedule\nRaffle Drawings/Announcements throughout the day by James Miller\, Chairman of the Wheels of Hope event\n\n6:30 AM  —   Barricades Up\n8:00 AM  —   Car Registration Begins – $20 per car\n8:30 AM  —   Volunteers Arrive\n9:00 AM  —   Greet Drivers of Cars\n9:45 AM  —    Step Team\n10:00 AM  —  Car Registration Ends\n10:00 AM —   Wheels of Hope Car Show opens – Free Admission to the public\n10:15 AM  —   Steel Drum Band\n11:30 AM  —   Mariachi Band Performs (arrive at 11:00)\n1:00 PM  —     Live Music by Chaze Marie-Hope and Robert Miller\n2:00 PM  —    Awards Ceremony
URL:https://wheelsofhopegarland.com/events/wheels-of-hope-car/
LOCATION:Plaza Theatre\, 521 West State Street\, Garland\, TX 75040\, Garland
ATTACH;FMTTYPE=image/jpeg:https://wheelsofhopegarland.com/wp-content/uploads/2014/12/logo.jpg
END:VEVENT
BEGIN:VEVENT
DTSTART;TZID=UTC:20160423T100000
DTEND;TZID=UTC:20160423T140000
DTSTAMP:20260423T114622
CREATED:20141221T001357Z
LAST-MODIFIED:20160324T213832Z
UID:1961-1461405600-1461420000@wheelsofhopegarland.com
SUMMARY:Raffle\, Door Prizes\, and More 2016
DESCRIPTION:Raffle Drawings/Announcements will be given throughout the day by James Miller\, Chairman of the Wheels of Hope event \nSaturday\, April 23\, 2016 Wheels of Hope Event Schedule\n6:30 AM  —   Barricades Up\n8:00 AM  —   Car Registration Begins – $20 per car\n8:30 AM  —   Volunteers Arrive\n9:00 AM  —   Greet Drivers of Cars\n9:45 AM  —    Step Team\n10:00 AM  —  Car Registration Ends\n10:00 AM —   Wheels of Hope Car Show opens – Free Admission to the public\n10:15 AM  —   Steel Drum Band\n11:30 AM  —   Mariachi Band Performs (arrive at 11:00)\n1:00 PM  —     Live Music by Chaze Marie-Hope and Robert Miller\n2:00 PM  —    Awards Ceremony
URL:https://wheelsofhopegarland.com/events/raffle-door-prizes-and-more/
LOCATION:Plaza Theatre\, 521 West State Street\, Garland\, TX 75040\, Garland
ATTACH;FMTTYPE=image/jpeg:https://wheelsofhopegarland.com/wp-content/uploads/2014/12/img_raffle.jpg
END:VEVENT
BEGIN:VEVENT
DTSTART;TZID=UTC:20160423T080000
DTEND;TZID=UTC:20160423T100000
DTSTAMP:20260423T114622
CREATED:20141220T235312Z
LAST-MODIFIED:20160324T220229Z
UID:1952-1461398400-1461405600@wheelsofhopegarland.com
SUMMARY:Car Registration 2016
DESCRIPTION:Registration begins for car owners at 8:00 am and closes at 10:00 am when the show opens to the public. Don’t be late! \nRegister Your Car \nSaturday\, April 23\, 2016 Wheels of Hope Event Schedule\nRaffle Drawings/Announcements throughout the day by James Miller\, Chairman of the Wheels of Hope event\n\n6:30 AM  —   Barricades Up\n8:00 AM  —   Car Registration Begins – $20 per car\n8:30 AM  —   Volunteers Arrive\n9:00 AM  —   Greet Drivers of Cars\n9:45 AM  —    Step Team\n10:00 AM  —  Car Registration Ends\n10:00 AM —   Wheels of Hope Car Show opens – Free Admission to the public\n10:15 AM  —   Steel Drum Band\n11:30 AM  —   Mariachi Band Performs (arrive at 11:00)\n1:00 PM  —     Live Music by Chaze Marie-Hope and Robert Miller\n2:00 PM  —    Awards Ceremony
URL:https://wheelsofhopegarland.com/events/registration/
LOCATION:Plaza Theatre\, 521 West State Street\, Garland\, TX 75040\, Garland
ATTACH;FMTTYPE=image/jpeg:https://wheelsofhopegarland.com/wp-content/uploads/2014/12/img_red_chevy.jpg
END:VEVENT
BEGIN:VEVENT
DTSTART;TZID=UTC:20150502T160000
DTEND;TZID=UTC:20150502T160000
DTSTAMP:20260423T114622
CREATED:20141221T000006Z
LAST-MODIFIED:20160324T214946Z
UID:1956-1430582400-1430582400@wheelsofhopegarland.com
SUMMARY:2015 Awards Announced
DESCRIPTION:Judging will take place throughout the day for various categories. Winners for each category will be announced at the end of the show\, at 4:00 pm.
URL:https://wheelsofhopegarland.com/events/awards-announced/
LOCATION:Plaza Theatre\, 521 West State Street\, Garland\, TX 75040\, Garland
ATTACH;FMTTYPE=image/jpeg:https://wheelsofhopegarland.com/wp-content/uploads/2014/12/15347348344_7cdab2182f_z.jpg
END:VEVENT
END:VCALENDAR